BEGIN:VCALENDAR
VERSION:2.0
PRODID:-//Piratenpartei Zürich - ECPv6.15.20//NONSGML v1.0//EN
CALSCALE:GREGORIAN
METHOD:PUBLISH
X-WR-CALNAME:Piratenpartei Zürich
X-ORIGINAL-URL:https://pp-zuerich.ch
X-WR-CALDESC:Veranstaltungen für Piratenpartei Zürich
REFRESH-INTERVAL;VALUE=DURATION:PT1H
X-Robots-Tag:noindex
X-PUBLISHED-TTL:PT1H
BEGIN:VTIMEZONE
TZID:Europe/Zurich
BEGIN:DAYLIGHT
TZOFFSETFROM:+0100
TZOFFSETTO:+0200
TZNAME:CEST
DTSTART:20250330T010000
END:DAYLIGHT
BEGIN:STANDARD
TZOFFSETFROM:+0200
TZOFFSETTO:+0100
TZNAME:CET
DTSTART:20251026T010000
END:STANDARD
BEGIN:DAYLIGHT
TZOFFSETFROM:+0100
TZOFFSETTO:+0200
TZNAME:CEST
DTSTART:20260329T010000
END:DAYLIGHT
BEGIN:STANDARD
TZOFFSETFROM:+0200
TZOFFSETTO:+0100
TZNAME:CET
DTSTART:20261025T010000
END:STANDARD
BEGIN:DAYLIGHT
TZOFFSETFROM:+0100
TZOFFSETTO:+0200
TZNAME:CEST
DTSTART:20270328T010000
END:DAYLIGHT
BEGIN:STANDARD
TZOFFSETFROM:+0200
TZOFFSETTO:+0100
TZNAME:CET
DTSTART:20271031T010000
END:STANDARD
END:VTIMEZONE
BEGIN:VEVENT
DTSTART;TZID=Europe/Zurich:20260203T180000
DTEND;TZID=Europe/Zurich:20260203T190000
DTSTAMP:20260420T114542
CREATED:20260101T222401Z
LAST-MODIFIED:20260101T222401Z
UID:2988-1770141600-1770145200@pp-zuerich.ch
SUMMARY:Stammtisch Zürich
DESCRIPTION:Wir treffen uns jeden zweiten Monat in Zürich\, um uns über aktuelle Themen auszutauschen. Auch als Nicht-Mitglied bist du herzlich willkommen.
URL:https://pp-zuerich.ch/event/stammtisch-zuerich-030226/
LOCATION:Simplon Bar\, Schützengasse 16\, Zürich
ATTACH;FMTTYPE=image/webp:https://pp-zuerich.ch/wp-content/uploads/2025/05/ppzh-stammtisch.webp
END:VEVENT
BEGIN:VEVENT
DTSTART;TZID=Europe/Zurich:20260217T190000
DTEND;TZID=Europe/Zurich:20260217T200000
DTSTAMP:20260420T114542
CREATED:20260101T223021Z
LAST-MODIFIED:20260101T223021Z
UID:2990-1771354800-1771358400@pp-zuerich.ch
SUMMARY:Stammtisch Winterthur
DESCRIPTION:Wir treffen uns jeden Monat in Winterthur\, um uns über aktuelle Themen auszutauschen. Auch als Nicht-Mitglied bist du herzlich willkommen.
URL:https://pp-zuerich.ch/event/stammtisch-winterthur-170226/
LOCATION:Gastronomie am Gleis\, Rudolfstrasse 21\, Winterthur\, 8400
ATTACH;FMTTYPE=image/webp:https://pp-zuerich.ch/wp-content/uploads/2025/05/ppzh-stammtisch.webp
END:VEVENT
END:VCALENDAR